Package: trena Version: 1.22.2 Command: /Library/Frameworks/R.framework/Resources/bin/R CMD INSTALL trena StartedAt: 2023-10-15 16:01:13 -0400 (Sun, 15 Oct 2023) EndedAt: 2023-10-15 16:04:23 -0400 (Sun, 15 Oct 2023) EllapsedTime: 189.9 seconds RetCode: 0 Status: OK