Package: trena Version: 1.22.2 Command: /Library/Frameworks/R.framework/Resources/bin/R CMD build --keep-empty-dirs --no-resave-data trena StartedAt: 2023-10-15 21:58:37 -0400 (Sun, 15 Oct 2023) EndedAt: 2023-10-15 22:02:05 -0400 (Sun, 15 Oct 2023) EllapsedTime: 208.0 seconds RetCode: 0 Status: OK PackageFile: trena_1.22.2.tar.gz PackageFileSize: 6.858 MiB