Package: treekoR Version: 1.8.0 Command: chmod a+r treekoR -R && F:\biocbuild\bbs-3.17-bioc\R\bin\R.exe CMD build --keep-empty-dirs --no-resave-data treekoR StartedAt: 2023-10-15 22:55:39 -0400 (Sun, 15 Oct 2023) EndedAt: 2023-10-15 22:57:05 -0400 (Sun, 15 Oct 2023) EllapsedTime: 86.6 seconds RetCode: 0 Status: OK PackageFile: treekoR_1.8.0.tar.gz PackageFileSize: 1.576 MiB