Package: treekoR Version: 1.8.0 Command: rm -rf treekoR.buildbin-libdir && mkdir treekoR.buildbin-libdir && F:\biocbuild\bbs-3.17-bioc\R\bin\R.exe CMD INSTALL --build --library=treekoR.buildbin-libdir treekoR_1.8.0.tar.gz StartedAt: 2023-10-16 09:40:35 -0400 (Mon, 16 Oct 2023) EndedAt: 2023-10-16 09:41:13 -0400 (Mon, 16 Oct 2023) EllapsedTime: 38.6 seconds RetCode: 0 Status: OK PackageFile: treekoR_1.8.0.zip PackageFileSize: 1.643 MiB