Package: treekoR Version: 1.8.0 Command: /home/biocbuild/bbs-3.17-bioc/R/bin/R CMD check --install=check:treekoR.install-out.txt --library=/home/biocbuild/bbs-3.17-bioc/R/site-library --timings treekoR_1.8.0.tar.gz StartedAt: 2023-10-16 01:52:58 -0400 (Mon, 16 Oct 2023) EndedAt: 2023-10-16 01:58:16 -0400 (Mon, 16 Oct 2023) EllapsedTime: 318.5 seconds RetCode: 0 Status: OK CheckDir: treekoR.Rcheck Warnings: 0