Package: treekoR Version: 1.8.0 Command: /home/biocbuild/bbs-3.17-bioc/R/bin/R CMD build --keep-empty-dirs --no-resave-data treekoR StartedAt: 2023-10-15 18:51:12 -0400 (Sun, 15 Oct 2023) EndedAt: 2023-10-15 18:52:30 -0400 (Sun, 15 Oct 2023) EllapsedTime: 78.6 seconds RetCode: 0 Status: OK PackageFile: treekoR_1.8.0.tar.gz PackageFileSize: 1.576 MiB