Package: treekoR Version: 1.8.0 Command: /Library/Frameworks/R.framework/Resources/bin/R CMD build --keep-empty-dirs --no-resave-data treekoR StartedAt: 2023-10-15 21:58:14 -0400 (Sun, 15 Oct 2023) EndedAt: 2023-10-15 22:01:29 -0400 (Sun, 15 Oct 2023) EllapsedTime: 194.8 seconds RetCode: 0 Status: OK PackageFile: treekoR_1.8.0.tar.gz PackageFileSize: 1.576 MiB