Package: treeio Version: 1.24.3 Command: rm -rf treeio.buildbin-libdir && mkdir treeio.buildbin-libdir && F:\biocbuild\bbs-3.17-bioc\R\bin\R.exe CMD INSTALL --build --library=treeio.buildbin-libdir treeio_1.24.3.tar.gz StartedAt: 2023-10-16 09:40:33 -0400 (Mon, 16 Oct 2023) EndedAt: 2023-10-16 09:40:48 -0400 (Mon, 16 Oct 2023) EllapsedTime: 15.4 seconds RetCode: 0 Status: OK PackageFile: treeio_1.24.3.zip PackageFileSize: 931.4 KiB