Package: treeio Version: 1.24.3 Command: /home/biocbuild/bbs-3.17-bioc/R/bin/R CMD INSTALL treeio StartedAt: 2023-10-15 15:16:42 -0400 (Sun, 15 Oct 2023) EndedAt: 2023-10-15 15:16:49 -0400 (Sun, 15 Oct 2023) EllapsedTime: 7.4 seconds RetCode: 0 Status: OK