Package: treeio Version: 1.24.3 Command: /Library/Frameworks/R.framework/Resources/bin/R CMD INSTALL treeio StartedAt: 2023-10-15 15:20:26 -0400 (Sun, 15 Oct 2023) EndedAt: 2023-10-15 15:20:52 -0400 (Sun, 15 Oct 2023) EllapsedTime: 25.6 seconds RetCode: 0 Status: OK