Package: treeio Version: 1.24.3 Command: rm -rf treeio.buildbin-libdir && mkdir treeio.buildbin-libdir && /Users/biocbuild/BBS/utils/build-universal.sh treeio_1.24.3.tar.gz /Library/Frameworks/R.framework/Resources/bin/R treeio.buildbin-libdir StartedAt: 2023-10-16 10:22:42 -0400 (Mon, 16 Oct 2023) EndedAt: 2023-10-16 10:23:10 -0400 (Mon, 16 Oct 2023) EllapsedTime: 28.0 seconds RetCode: 0 Status: OK PackageFile: treeio_1.24.3.tgz PackageFileSize: 932.7 KiB