Package: traviz Version: 1.6.0 Command: chmod a+r traviz -R && F:\biocbuild\bbs-3.17-bioc\R\bin\R.exe CMD build --keep-empty-dirs --no-resave-data traviz StartedAt: 2023-10-15 22:55:21 -0400 (Sun, 15 Oct 2023) EndedAt: 2023-10-15 22:56:11 -0400 (Sun, 15 Oct 2023) EllapsedTime: 50.5 seconds RetCode: 0 Status: OK PackageFile: traviz_1.6.0.tar.gz PackageFileSize: 1.931 MiB