Package: traviz Version: 1.6.0 Command: rm -rf traviz.buildbin-libdir && mkdir traviz.buildbin-libdir && F:\biocbuild\bbs-3.17-bioc\R\bin\R.exe CMD INSTALL --build --library=traviz.buildbin-libdir traviz_1.6.0.tar.gz StartedAt: 2023-10-16 09:40:30 -0400 (Mon, 16 Oct 2023) EndedAt: 2023-10-16 09:41:00 -0400 (Mon, 16 Oct 2023) EllapsedTime: 30.4 seconds RetCode: 0 Status: OK PackageFile: traviz_1.6.0.zip PackageFileSize: 2.002 MiB