Package: traviz Version: 1.6.0 Command: /home/biocbuild/bbs-3.17-bioc/R/bin/R CMD build --keep-empty-dirs --no-resave-data traviz StartedAt: 2023-10-15 18:51:07 -0400 (Sun, 15 Oct 2023) EndedAt: 2023-10-15 18:51:53 -0400 (Sun, 15 Oct 2023) EllapsedTime: 45.7 seconds RetCode: 0 Status: OK PackageFile: traviz_1.6.0.tar.gz PackageFileSize: 3.079 MiB