Package: traviz Version: 1.6.0 Command: /Library/Frameworks/R.framework/Resources/bin/R CMD build --keep-empty-dirs --no-resave-data traviz StartedAt: 2023-10-15 21:58:03 -0400 (Sun, 15 Oct 2023) EndedAt: 2023-10-15 21:59:54 -0400 (Sun, 15 Oct 2023) EllapsedTime: 110.9 seconds RetCode: 0 Status: OK PackageFile: traviz_1.6.0.tar.gz PackageFileSize: 3.1 MiB