Package: transomics2cytoscape Version: 1.10.0 Command: chmod a+r transomics2cytoscape -R && F:\biocbuild\bbs-3.17-bioc\R\bin\R.exe CMD build --keep-empty-dirs --no-resave-data transomics2cytoscape StartedAt: 2023-10-15 22:54:54 -0400 (Sun, 15 Oct 2023) EndedAt: 2023-10-15 22:55:06 -0400 (Sun, 15 Oct 2023) EllapsedTime: 12.0 seconds RetCode: 0 Status: OK PackageFile: transomics2cytoscape_1.10.0.tar.gz PackageFileSize: 8.404 MiB