Package: transomics2cytoscape Version: 1.10.0 Command: rm -rf transomics2cytoscape.buildbin-libdir && mkdir transomics2cytoscape.buildbin-libdir && F:\biocbuild\bbs-3.17-bioc\R\bin\R.exe CMD INSTALL --build --library=transomics2cytoscape.buildbin-libdir transomics2cytoscape_1.10.0.tar.gz StartedAt: 2023-10-16 09:40:24 -0400 (Mon, 16 Oct 2023) EndedAt: 2023-10-16 09:40:36 -0400 (Mon, 16 Oct 2023) EllapsedTime: 12.1 seconds RetCode: 0 Status: OK PackageFile: transomics2cytoscape_1.10.0.zip PackageFileSize: 8.428 MiB