Package: transomics2cytoscape Version: 1.10.0 Command: /home/biocbuild/bbs-3.17-bioc/R/bin/R CMD INSTALL transomics2cytoscape StartedAt: 2023-10-15 15:33:26 -0400 (Sun, 15 Oct 2023) EndedAt: 2023-10-15 15:33:30 -0400 (Sun, 15 Oct 2023) EllapsedTime: 3.2 seconds RetCode: 0 Status: OK