Package: transomics2cytoscape Version: 1.10.0 Command: /Library/Frameworks/R.framework/Resources/bin/R CMD check --install=check:transomics2cytoscape.install-out.txt --library=/Library/Frameworks/R.framework/Resources/library --no-vignettes --timings transomics2cytoscape_1.10.0.tar.gz StartedAt: 2023-10-16 08:12:20 -0400 (Mon, 16 Oct 2023) EndedAt: 2023-10-16 08:13:32 -0400 (Mon, 16 Oct 2023) EllapsedTime: 72.0 seconds RetCode: 0 Status: OK CheckDir: transomics2cytoscape.Rcheck Warnings: 0