Package: transomics2cytoscape Version: 1.10.0 Command: /Library/Frameworks/R.framework/Resources/bin/R CMD build --keep-empty-dirs --no-resave-data transomics2cytoscape StartedAt: 2023-10-15 21:57:43 -0400 (Sun, 15 Oct 2023) EndedAt: 2023-10-15 21:58:02 -0400 (Sun, 15 Oct 2023) EllapsedTime: 19.0 seconds RetCode: 0 Status: OK PackageFile: transomics2cytoscape_1.10.0.tar.gz PackageFileSize: 8.404 MiB