Package: transomics2cytoscape Version: 1.10.0 Command: rm -rf transomics2cytoscape.buildbin-libdir && mkdir transomics2cytoscape.buildbin-libdir && /Users/biocbuild/BBS/utils/build-universal.sh transomics2cytoscape_1.10.0.tar.gz /Library/Frameworks/R.framework/Resources/bin/R transomics2cytoscape.buildbin-libdir StartedAt: 2023-10-16 10:22:37 -0400 (Mon, 16 Oct 2023) EndedAt: 2023-10-16 10:22:52 -0400 (Mon, 16 Oct 2023) EllapsedTime: 14.8 seconds RetCode: 0 Status: OK PackageFile: transomics2cytoscape_1.10.0.tgz PackageFileSize: 8.431 MiB