Package: transite Version: 1.18.0 Command: F:\biocbuild\bbs-3.17-bioc\R\bin\R.exe CMD check --no-multiarch --install=check:transite.install-out.txt --library=F:\biocbuild\bbs-3.17-bioc\R\library --no-vignettes --timings transite_1.18.0.tar.gz StartedAt: 2023-10-16 07:46:08 -0400 (Mon, 16 Oct 2023) EndedAt: 2023-10-16 07:53:17 -0400 (Mon, 16 Oct 2023) EllapsedTime: 429.3 seconds RetCode: 0 Status: OK CheckDir: transite.Rcheck Warnings: 0