Package: transite Version: 1.18.0 Command: rm -rf transite.buildbin-libdir && mkdir transite.buildbin-libdir && F:\biocbuild\bbs-3.17-bioc\R\bin\R.exe CMD INSTALL --build --library=transite.buildbin-libdir transite_1.18.0.tar.gz StartedAt: 2023-10-16 09:40:21 -0400 (Mon, 16 Oct 2023) EndedAt: 2023-10-16 09:40:58 -0400 (Mon, 16 Oct 2023) EllapsedTime: 37.5 seconds RetCode: 0 Status: OK PackageFile: transite_1.18.0.zip PackageFileSize: 1.336 MiB