Package: transite Version: 1.18.0 Command: /home/biocbuild/bbs-3.17-bioc/R/bin/R CMD INSTALL transite StartedAt: 2023-10-15 15:15:34 -0400 (Sun, 15 Oct 2023) EndedAt: 2023-10-15 15:15:59 -0400 (Sun, 15 Oct 2023) EllapsedTime: 25.4 seconds RetCode: 0 Status: OK