Package: transite Version: 1.18.0 Command: /home/biocbuild/bbs-3.17-bioc/R/bin/R CMD check --install=check:transite.install-out.txt --library=/home/biocbuild/bbs-3.17-bioc/R/site-library --timings transite_1.18.0.tar.gz StartedAt: 2023-10-16 01:51:29 -0400 (Mon, 16 Oct 2023) EndedAt: 2023-10-16 01:58:14 -0400 (Mon, 16 Oct 2023) EllapsedTime: 404.8 seconds RetCode: 0 Status: OK CheckDir: transite.Rcheck Warnings: 0