Package: transformGamPoi Version: 1.6.0 Command: chmod a+r transformGamPoi -R && F:\biocbuild\bbs-3.17-bioc\R\bin\R.exe CMD build --keep-empty-dirs --no-resave-data transformGamPoi StartedAt: 2023-10-15 22:54:24 -0400 (Sun, 15 Oct 2023) EndedAt: 2023-10-15 22:55:20 -0400 (Sun, 15 Oct 2023) EllapsedTime: 56.1 seconds RetCode: 0 Status: OK PackageFile: transformGamPoi_1.6.0.tar.gz PackageFileSize: 403.5 KiB