Package: transformGamPoi Version: 1.6.0 Command: /home/biocbuild/bbs-3.17-bioc/R/bin/R CMD INSTALL transformGamPoi StartedAt: 2023-10-15 15:14:26 -0400 (Sun, 15 Oct 2023) EndedAt: 2023-10-15 15:14:40 -0400 (Sun, 15 Oct 2023) EllapsedTime: 14.4 seconds RetCode: 0 Status: OK