Package: transformGamPoi Version: 1.6.0 Command: /Library/Frameworks/R.framework/Resources/bin/R CMD INSTALL transformGamPoi StartedAt: 2023-10-15 15:23:16 -0400 (Sun, 15 Oct 2023) EndedAt: 2023-10-15 15:24:01 -0400 (Sun, 15 Oct 2023) EllapsedTime: 45.3 seconds RetCode: 0 Status: OK