Package: transcriptogramer Version: 1.22.0 Command: /home/biocbuild/bbs-3.17-bioc/R/bin/R CMD build --keep-empty-dirs --no-resave-data transcriptogramer StartedAt: 2023-10-15 18:50:20 -0400 (Sun, 15 Oct 2023) EndedAt: 2023-10-15 19:02:27 -0400 (Sun, 15 Oct 2023) EllapsedTime: 727.3 seconds RetCode: 0 Status: OK PackageFile: transcriptogramer_1.22.0.tar.gz PackageFileSize: 3.63 MiB