Package: transcriptR Version: 1.28.0 Command: rm -rf transcriptR.buildbin-libdir && mkdir transcriptR.buildbin-libdir && F:\biocbuild\bbs-3.17-bioc\R\bin\R.exe CMD INSTALL --build --library=transcriptR.buildbin-libdir transcriptR_1.28.0.tar.gz StartedAt: 2023-10-16 09:40:17 -0400 (Mon, 16 Oct 2023) EndedAt: 2023-10-16 09:41:16 -0400 (Mon, 16 Oct 2023) EllapsedTime: 59.1 seconds RetCode: 0 Status: OK PackageFile: transcriptR_1.28.0.zip PackageFileSize: 2.966 MiB