Package: transcriptR Version: 1.28.0 Command: /home/biocbuild/bbs-3.17-bioc/R/bin/R CMD check --install=check:transcriptR.install-out.txt --library=/home/biocbuild/bbs-3.17-bioc/R/site-library --timings transcriptR_1.28.0.tar.gz StartedAt: 2023-10-16 01:50:31 -0400 (Mon, 16 Oct 2023) EndedAt: 2023-10-16 01:57:54 -0400 (Mon, 16 Oct 2023) EllapsedTime: 442.8 seconds RetCode: 0 Status: OK CheckDir: transcriptR.Rcheck Warnings: 0