Package: transcriptR Version: 1.28.0 Command: /home/biocbuild/bbs-3.17-bioc/R/bin/R CMD build --keep-empty-dirs --no-resave-data transcriptR StartedAt: 2023-10-15 18:50:23 -0400 (Sun, 15 Oct 2023) EndedAt: 2023-10-15 18:51:42 -0400 (Sun, 15 Oct 2023) EllapsedTime: 78.9 seconds RetCode: 0 Status: OK PackageFile: transcriptR_1.28.0.tar.gz PackageFileSize: 3.515 MiB