Package: transcriptR Version: 1.28.0 Command: /Library/Frameworks/R.framework/Resources/bin/R CMD INSTALL transcriptR StartedAt: 2023-10-15 16:11:12 -0400 (Sun, 15 Oct 2023) EndedAt: 2023-10-15 16:13:39 -0400 (Sun, 15 Oct 2023) EllapsedTime: 147.0 seconds RetCode: 0 Status: OK