Package: transcriptR Version: 1.28.0 Command: /Library/Frameworks/R.framework/Resources/bin/R CMD check --install=check:transcriptR.install-out.txt --library=/Library/Frameworks/R.framework/Resources/library --no-vignettes --timings transcriptR_1.28.0.tar.gz StartedAt: 2023-10-16 08:11:00 -0400 (Mon, 16 Oct 2023) EndedAt: 2023-10-16 08:28:00 -0400 (Mon, 16 Oct 2023) EllapsedTime: 1020.0 seconds RetCode: 0 Status: OK CheckDir: transcriptR.Rcheck Warnings: 0