Package: transcriptR Version: 1.28.0 Command: /Library/Frameworks/R.framework/Resources/bin/R CMD build --keep-empty-dirs --no-resave-data transcriptR StartedAt: 2023-10-15 21:57:10 -0400 (Sun, 15 Oct 2023) EndedAt: 2023-10-15 22:00:19 -0400 (Sun, 15 Oct 2023) EllapsedTime: 188.7 seconds RetCode: 0 Status: OK PackageFile: transcriptR_1.28.0.tar.gz PackageFileSize: 3.526 MiB