Package: transcriptR Version: 1.28.0 Command: rm -rf transcriptR.buildbin-libdir && mkdir transcriptR.buildbin-libdir && /Users/biocbuild/BBS/utils/build-universal.sh transcriptR_1.28.0.tar.gz /Library/Frameworks/R.framework/Resources/bin/R transcriptR.buildbin-libdir StartedAt: 2023-10-16 10:22:27 -0400 (Mon, 16 Oct 2023) EndedAt: 2023-10-16 10:24:58 -0400 (Mon, 16 Oct 2023) EllapsedTime: 150.1 seconds RetCode: 0 Status: OK PackageFile: transcriptR_1.28.0.tgz PackageFileSize: 3.14 MiB