Package: tradeSeq Version: 1.14.0 Command: rm -rf tradeSeq.buildbin-libdir && mkdir tradeSeq.buildbin-libdir && F:\biocbuild\bbs-3.17-bioc\R\bin\R.exe CMD INSTALL --build --library=tradeSeq.buildbin-libdir tradeSeq_1.14.0.tar.gz StartedAt: 2023-10-16 09:40:08 -0400 (Mon, 16 Oct 2023) EndedAt: 2023-10-16 09:40:47 -0400 (Mon, 16 Oct 2023) EllapsedTime: 39.0 seconds RetCode: 0 Status: OK PackageFile: tradeSeq_1.14.0.zip PackageFileSize: 2.459 MiB