Package: tradeSeq Version: 1.14.0 Command: /home/biocbuild/bbs-3.17-bioc/R/bin/R CMD build --keep-empty-dirs --no-resave-data tradeSeq StartedAt: 2023-10-15 18:50:11 -0400 (Sun, 15 Oct 2023) EndedAt: 2023-10-15 18:57:08 -0400 (Sun, 15 Oct 2023) EllapsedTime: 417.0 seconds RetCode: 0 Status: OK PackageFile: tradeSeq_1.14.0.tar.gz PackageFileSize: 5.089 MiB