Package: tradeSeq Version: 1.14.0 Command: /Library/Frameworks/R.framework/Resources/bin/R CMD INSTALL tradeSeq StartedAt: 2023-10-15 15:20:45 -0400 (Sun, 15 Oct 2023) EndedAt: 2023-10-15 15:22:25 -0400 (Sun, 15 Oct 2023) EllapsedTime: 100.3 seconds RetCode: 0 Status: OK