Package: tradeSeq Version: 1.14.0 Command: rm -rf tradeSeq.buildbin-libdir && mkdir tradeSeq.buildbin-libdir && /Users/biocbuild/BBS/utils/build-universal.sh tradeSeq_1.14.0.tar.gz /Library/Frameworks/R.framework/Resources/bin/R tradeSeq.buildbin-libdir StartedAt: 2023-10-16 10:22:21 -0400 (Mon, 16 Oct 2023) EndedAt: 2023-10-16 10:24:02 -0400 (Mon, 16 Oct 2023) EllapsedTime: 101.1 seconds RetCode: 0 Status: OK PackageFile: tradeSeq_1.14.0.tgz PackageFileSize: 4.702 MiB