Package: tracktables Version: 1.34.0 Command: F:\biocbuild\bbs-3.17-bioc\R\bin\R.exe CMD check --no-multiarch --install=check:tracktables.install-out.txt --library=F:\biocbuild\bbs-3.17-bioc\R\library --no-vignettes --timings tracktables_1.34.0.tar.gz StartedAt: 2023-10-16 07:44:00 -0400 (Mon, 16 Oct 2023) EndedAt: 2023-10-16 07:45:39 -0400 (Mon, 16 Oct 2023) EllapsedTime: 99.6 seconds RetCode: 0 Status: WARNINGS CheckDir: tracktables.Rcheck Warnings: 1