Package: tracktables Version: 1.34.0 Command: rm -rf tracktables.buildbin-libdir && mkdir tracktables.buildbin-libdir && F:\biocbuild\bbs-3.17-bioc\R\bin\R.exe CMD INSTALL --build --library=tracktables.buildbin-libdir tracktables_1.34.0.tar.gz StartedAt: 2023-10-16 09:40:04 -0400 (Mon, 16 Oct 2023) EndedAt: 2023-10-16 09:40:28 -0400 (Mon, 16 Oct 2023) EllapsedTime: 23.7 seconds RetCode: 0 Status: OK PackageFile: tracktables_1.34.0.zip PackageFileSize: 408 KiB