Package: trackViewer Version: 1.36.2 Command: /home/biocbuild/bbs-3.17-bioc/R/bin/R CMD build --keep-empty-dirs --no-resave-data trackViewer StartedAt: 2023-10-15 18:50:11 -0400 (Sun, 15 Oct 2023) EndedAt: 2023-10-15 19:00:35 -0400 (Sun, 15 Oct 2023) EllapsedTime: 623.9 seconds RetCode: 0 Status: OK PackageFile: trackViewer_1.36.2.tar.gz PackageFileSize: 8.478 MiB