Package: trackViewer Version: 1.36.2 Command: /Library/Frameworks/R.framework/Resources/bin/R CMD INSTALL trackViewer StartedAt: 2023-10-15 15:54:35 -0400 (Sun, 15 Oct 2023) EndedAt: 2023-10-15 15:57:38 -0400 (Sun, 15 Oct 2023) EllapsedTime: 182.9 seconds RetCode: 0 Status: OK