Package: topdownr Version: 1.22.0 Command: F:\biocbuild\bbs-3.17-bioc\R\bin\R.exe CMD INSTALL topdownr StartedAt: 2023-10-15 16:13:39 -0400 (Sun, 15 Oct 2023) EndedAt: 2023-10-15 16:14:19 -0400 (Sun, 15 Oct 2023) EllapsedTime: 40.0 seconds RetCode: 0 Status: OK