Package: topdownr Version: 1.22.0 Command: rm -rf topdownr.buildbin-libdir && mkdir topdownr.buildbin-libdir && F:\biocbuild\bbs-3.17-bioc\R\bin\R.exe CMD INSTALL --build --library=topdownr.buildbin-libdir topdownr_1.22.0.tar.gz StartedAt: 2023-10-16 09:39:55 -0400 (Mon, 16 Oct 2023) EndedAt: 2023-10-16 09:40:42 -0400 (Mon, 16 Oct 2023) EllapsedTime: 46.3 seconds RetCode: 0 Status: OK PackageFile: topdownr_1.22.0.zip PackageFileSize: 1.997 MiB