Package: topdownr Version: 1.22.0 Command: /home/biocbuild/bbs-3.17-bioc/R/bin/R CMD build --keep-empty-dirs --no-resave-data topdownr StartedAt: 2023-10-15 18:49:37 -0400 (Sun, 15 Oct 2023) EndedAt: 2023-10-15 18:50:42 -0400 (Sun, 15 Oct 2023) EllapsedTime: 65.3 seconds RetCode: 0 Status: OK PackageFile: topdownr_1.22.0.tar.gz PackageFileSize: 1.434 MiB