Package: topGO Version: 2.52.0 Command: F:\biocbuild\bbs-3.17-bioc\R\bin\R.exe CMD INSTALL topGO StartedAt: 2023-10-15 16:09:20 -0400 (Sun, 15 Oct 2023) EndedAt: 2023-10-15 16:10:09 -0400 (Sun, 15 Oct 2023) EllapsedTime: 48.5 seconds RetCode: 0 Status: OK