Package: topGO Version: 2.52.0 Command: /home/biocbuild/bbs-3.17-bioc/R/bin/R CMD INSTALL topGO StartedAt: 2023-10-15 15:20:08 -0400 (Sun, 15 Oct 2023) EndedAt: 2023-10-15 15:20:30 -0400 (Sun, 15 Oct 2023) EllapsedTime: 22.1 seconds RetCode: 0 Status: OK