Package: topGO Version: 2.52.0 Command: /home/biocbuild/bbs-3.17-bioc/R/bin/R CMD build --keep-empty-dirs --no-resave-data topGO StartedAt: 2023-10-15 18:49:39 -0400 (Sun, 15 Oct 2023) EndedAt: 2023-10-15 18:51:32 -0400 (Sun, 15 Oct 2023) EllapsedTime: 112.3 seconds RetCode: 0 Status: OK PackageFile: topGO_2.52.0.tar.gz PackageFileSize: 1.667 MiB